BEGIN:VCALENDAR
VERSION:2.0
PRODID:-//Recovery Café Longmont - ECPv6.15.20//NONSGML v1.0//EN
CALSCALE:GREGORIAN
METHOD:PUBLISH
X-WR-CALNAME:Recovery Café Longmont
X-ORIGINAL-URL:http://recoverycafelongmont.org
X-WR-CALDESC:Events for Recovery Café Longmont
REFRESH-INTERVAL;VALUE=DURATION:PT1H
X-Robots-Tag:noindex
X-PUBLISHED-TTL:PT1H
BEGIN:VTIMEZONE
TZID:America/Denver
BEGIN:DAYLIGHT
TZOFFSETFROM:-0700
TZOFFSETTO:-0600
TZNAME:MDT
DTSTART:20250309T090000
END:DAYLIGHT
BEGIN:STANDARD
TZOFFSETFROM:-0600
TZOFFSETTO:-0700
TZNAME:MST
DTSTART:20251102T080000
END:STANDARD
BEGIN:DAYLIGHT
TZOFFSETFROM:-0700
TZOFFSETTO:-0600
TZNAME:MDT
DTSTART:20260308T090000
END:DAYLIGHT
BEGIN:STANDARD
TZOFFSETFROM:-0600
TZOFFSETTO:-0700
TZNAME:MST
DTSTART:20261101T080000
END:STANDARD
BEGIN:DAYLIGHT
TZOFFSETFROM:-0700
TZOFFSETTO:-0600
TZNAME:MDT
DTSTART:20270314T090000
END:DAYLIGHT
BEGIN:STANDARD
TZOFFSETFROM:-0600
TZOFFSETTO:-0700
TZNAME:MST
DTSTART:20271107T080000
END:STANDARD
END:VTIMEZONE
BEGIN:VEVENT
DTSTART;TZID=America/Denver:20260325T133000
DTEND;TZID=America/Denver:20260325T140000
DTSTAMP:20260425T124832
CREATED:20260213T221747Z
LAST-MODIFIED:20260324T205239Z
UID:4899-1774445400-1774447200@recoverycafelongmont.org
SUMMARY:Bilingual Meditation
DESCRIPTION:Led by our Bilingual Resource Navigator + Meditation Guide\, José. Recovery is a challenging process that affects our bodies and minds; meditation can be used as a tool to help control emotions and increase mental clarity.
URL:http://recoverycafelongmont.org/event/bilingual-meditation-67/
LOCATION:Recovery Café Longmont\, 402 Kimbark St\, Longmont\, CO\, United States
END:VEVENT
BEGIN:VEVENT
DTSTART;TZID=America/Denver:20260325T111500
DTEND;TZID=America/Denver:20260325T121500
DTSTAMP:20260425T124832
CREATED:20260212T220327Z
LAST-MODIFIED:20260324T205239Z
UID:4886-1774437300-1774440900@recoverycafelongmont.org
SUMMARY:Women's Recovery Circle
DESCRIPTION:For female RCL Members only.  \n  \nCircles provide a chance to know and let yourself be known by others in recovery. They are a weekly check-in where we focus on successes\, challenges\, and goals.
URL:http://recoverycafelongmont.org/event/womens-recovery-circle-67/
LOCATION:Recovery Café Longmont\, 402 Kimbark St\, Longmont\, CO\, United States
END:VEVENT
BEGIN:VEVENT
DTSTART;TZID=America/Denver:20260325T111500
DTEND;TZID=America/Denver:20260325T121500
DTSTAMP:20260425T124832
CREATED:20260212T220327Z
LAST-MODIFIED:20260324T205239Z
UID:4887-1774437300-1774440900@recoverycafelongmont.org
SUMMARY:Men's Recovery Circle
DESCRIPTION:For male RCL Members only.  \n  \nCircles provide a chance to know and let yourself be known by others in recovery. They are a weekly check-in where we focus on successes\, challenges\, and goals.
URL:http://recoverycafelongmont.org/event/mens-recovery-circle-67/
LOCATION:402 Kimbark St\, Longmont\, CO\, United States
END:VEVENT
BEGIN:VEVENT
DTSTART;TZID=America/Denver:20260325T093000
DTEND;TZID=America/Denver:20260325T103000
DTSTAMP:20260425T124832
CREATED:20260212T220326Z
LAST-MODIFIED:20260324T205239Z
UID:4885-1774431000-1774434600@recoverycafelongmont.org
SUMMARY:PAL - Parents of Addicted Loved Ones
DESCRIPTION:This free support group offers guidance\, hope\, and community for families impacted by substance use. RCL will be the home of these weekly meetings\, starting May 7 at 9:30 AM.
URL:http://recoverycafelongmont.org/event/pal-parents-of-addicted-loved-ones-44/
LOCATION:Recovery Café Longmont\, 402 Kimbark St\, Longmont\, CO\, United States
END:VEVENT
END:VCALENDAR